BEGIN:VCALENDAR
VERSION:2.0
PRODID:-//HG Rec - ECPv4.9.0//NONSGML v1.0//EN
CALSCALE:GREGORIAN
METHOD:PUBLISH
X-WR-CALNAME:HG Rec
X-ORIGINAL-URL:https://archive.hgrec.com
X-WR-CALDESC:Events for HG Rec
BEGIN:VEVENT
DTSTART;TZID=America/Vancouver:20230808T090000
DTEND;TZID=America/Vancouver:20230808T150000
DTSTAMP:20260423T045213
CREATED:20230224T183059Z
LAST-MODIFIED:20230507T205641Z
UID:41246-1691485200-1691506800@archive.hgrec.com
SUMMARY:SCIENCE AL!VE  - SUMMER CAMP - K'IL KUN/SANDSPIT
DESCRIPTION:SCIENCE AL!VE – SUMMER CAMP – K’IL KUN/SANDSPIT\nScience Al!ve\, c/o Simon Fraser University’s Faculty of Applied Sciences\, aims to dispel stereotypes in the field of science and engineering and work towards achieving diversity and inclusion. Our programs create a safe space for participants to explore experiential STEAM education and develop an understanding of how STEAM is all around us. In each session\, participants will be faced with a ‘challenge’ that they work together and solve\, all while exploring a concept within STEAM and directly applying it. \n🧬 THEME THIS YEAR is Body Systems & Digital Skills 🔬 \n\nDate(s): Aug 8 – 11\, 2023 (4 days) \nTime(s): 9:00 am – 3:00 pm \nAge(s): Grades 4 – 7 \nCost: FREE\, space limited (10 online) \nLocation(s): Agnes L Mathers Elementary\, K’il Kun – Sandspit \nMore information about Science Al!ve HERE! \n\nCOORDINATOR BIO \nHello! My name is Madison (she/ they) and I am an Outreach Coordinator with Science Al!ve. I am passionate about creating spaces for kids to explore their interests and expand possibilities. I’ve worked with children for 15+ years and I love to learn from them\, and alongside them\, in programming. Outside of work\, you can find me swimming\, biking\, running\, or hiking with my one-eyed dog Rey. \n  \n  \n  \n  \n \n \n
URL:https://archive.hgrec.com/event/science-alve-summer-camp-kilkun-sandspit/2023-08-08/
LOCATION:Agnes L. Mathers Elementary\, 406 Copper Bay\, Sandspit\, BC\, V0T 1T0\, Canada
GEO:53.1703471;-131.7899199
X-APPLE-STRUCTURED-LOCATION;VALUE=URI;X-ADDRESS=Agnes L. Mathers Elementary 406 Copper Bay Sandspit BC V0T 1T0 Canada;X-APPLE-RADIUS=500;X-TITLE=406 Copper Bay:geo:-131.7899199,53.1703471
CATEGORIES:Camp,Programs,Programs (Sandspit),Queen Charlotte,Skidegate,Supported Programs
ATTACH;FMTTYPE=image/jpeg:https://archive.hgrec.com/wp-content/uploads/2023/02/SA-HG-Camp-photo.jpeg
ORGANIZER;CN="Science%20AL%21VE":MAILTO:fascoord@sfu.ca
END:VEVENT
END:VCALENDAR