BEGIN:VCALENDAR
VERSION:2.0
PRODID:-//HG Rec - ECPv4.9.0//NONSGML v1.0//EN
CALSCALE:GREGORIAN
METHOD:PUBLISH
X-WR-CALNAME:HG Rec
X-ORIGINAL-URL:https://archive.hgrec.com
X-WR-CALDESC:Events for HG Rec
BEGIN:VEVENT
DTSTART;TZID=America/Vancouver:20230731T090000
DTEND;TZID=America/Vancouver:20230731T150000
DTSTAMP:20260423T175528
CREATED:20230507T205036Z
LAST-MODIFIED:20230720T213521Z
UID:41927-1690794000-1690815600@archive.hgrec.com
SUMMARY:SCIENCE AL!VE - SUMMER CAMP - HLGAAGILDA-SKIDEGATE
DESCRIPTION:SCIENCE AL!VE – SUMMER CAMP – HLGAAGILDA-SKIDEGATE\nScience Al!ve\, c/o Simon Fraser University’s Faculty of Applied Sciences\, aims to dispel stereotypes in the field of science and engineering and work towards achieving diversity and inclusion. Our programs create a safe space for participants to explore experiential STEAM education and develop an understanding of how STEAM is all around us. In each session\, participants will be faced with a ‘challenge’ that they work together and solve\, all while exploring a concept within STEAM and directly applying it. \n🧬 THEME THIS YEAR is Body Systems & Digital Skills 🔬 \n\nINSTRUCTOR BIO \nDate(s):  July 31 – Aug 4\, 2023 \nTime(s): 9:00 am – 3:00 pm \nAge(s): Grades 4 – 7 \nCost: FREE\, space limited (10 online) \nLocation(s): Sk’aadGaa Naay Elementary\, HlGaagilda – Skidegate \nMore information about Science Al!ve HERE! \n\nCOORDINATOR BIO \nHello! My name is Madison (she/ they) and I am an Outreach Coordinator with Science Al!ve. I am passionate about creating spaces for kids to explore their interests and expand possibilities. I’ve worked with children for 15+ years and I love to learn from them\, and alongside them\, in programming. Outside of work\, you can find me swimming\, biking\, running\, or hiking with my one-eyed dog Rey. \n  \n  \n  \n  \n \n \n
URL:https://archive.hgrec.com/event/41927/2023-07-31/
LOCATION:Sk’aadgaa Naay Elementary\, 500 Skidegate Heights\, Skidegate\, BC\, V0T 1S1\, Canada
GEO:53.2483152;-131.99746
X-APPLE-STRUCTURED-LOCATION;VALUE=URI;X-ADDRESS=Sk’aadgaa Naay Elementary 500 Skidegate Heights Skidegate BC V0T 1S1 Canada;X-APPLE-RADIUS=500;X-TITLE=500 Skidegate Heights:geo:-131.99746,53.2483152
CATEGORIES:After-School Programs,After-School Programs (Hlgaagilda/Queen Charlotte),Camp,Programs,Programs (HlGaagilda/Queen Charlotte),Queen Charlotte,Skidegate,Supported Programs
ATTACH;FMTTYPE=image/jpeg:https://archive.hgrec.com/wp-content/uploads/2023/03/SA-HG-Camp-photo.jpeg
ORGANIZER;CN="Science%20AL%21VE":MAILTO:fascoord@sfu.ca
END:VEVENT
BEGIN:VEVENT
DTSTART;TZID=America/Vancouver:20230731T090000
DTEND;TZID=America/Vancouver:20230731T153000
DTSTAMP:20260423T175528
CREATED:20230507T214146Z
LAST-MODIFIED:20230531T220208Z
UID:42015-1690794000-1690817400@archive.hgrec.com
SUMMARY:SUMMER DAY CAMP 2023 - 'Wáan Kún - Port Clements
DESCRIPTION:SUMMER DAY CAMP 2023 – ‘Wáan Kún – Port Clements\nPLEASE READ BEFORE REGISTERING YOUR CHILD/REN:  \nHaida Gwaii Recreation is excited to bring back our Summer Day Camps for their 43rd year! These camps offer a full week of fun activities for your child/ren ages 5* to 12 years. We want kids to have fun as they create\, explore\, make new friendships\, learn to be part of a team\, and more! \n*Must have completed Kindergarten. Child/ren present at camps that have not completed Kindergarten will have registration revoked and no refund will be provided. Our staff are not Early Childhood Educators and are not prepared to work with large groups with those below school age. Haawa/thank you for your understanding. \n\n\n\n\n\n\n\nPlease select the preferred week of camp during registration. If registration is full (no tickets available online)\, to place your child/ren on a waitlist e-mail info@hgrec.com. Due to the high demand for our camps\, cancellations without 72hr notice will NOT be refunded\, unless the absence is due to medical\, including COVID-19 illness or isolation.  \nWHAT TO EXPECT AT CAMPS THIS SUMMER:\n\n\n\n\n\n\n\n\n\n\n\n\nWe have two themes for in-person camps this year: \n\nWeek 1 & 2 HYBRID (one week only) – Mini Movers – Active Living & Tiny Travellers – Community Action \n\nMini Movers: Join our Summer Camp staff for this movement-based summer camp\, where the emphasis is on growing physical literacy and getting outside to promote active living for life! In addition to sport and play\, our trained staff will take campers on engaging nature walks\, lead sports\, stretch\, obstacle & agility courses and activities that build teamwork and fundamental skills. They will bring campers in to help prepare their own healthy snacks\, understand the importance of hydration\, and will incorporate “active art” projects. We find these options really help those kids that can’t sit still for traditional projects to get moving and create with their peers! From nature weaving to catapult painting\, we’re inspiring a generation of “mini movers”! \nTiny Travellers: This week of camp is all about change-making and “travelling the globe”! Youth will teach one another\, build upon leadership skills\, and work together to find solutions to unique issues locally and abroad. They will share and educate their communities\, spreading acceptance and understanding\, through the use of. art installations\, food\, and other creative works. The focus of this camp is to support youth-led advocacy and education\, and find some fun ways to help our “tiny travellers” learn to be stewards of our home and the world! \n*We do not provide lunch. Please make sure your child/ren come prepared with food + reusable water bottle. \n\n\nSAMPLE ITINERARY: \n8:30 – 9:00AM – Set-up\, the arrival of kids \n9:00AM – 9:30AM  – Group welcome & check-ins\, 15 minutes of yoga/stretch & small snacks available \n9:30AM – 10:30AM – Activity #1: Emphasis on movement and team-building (e.g. scavenger hunt) \n10:30AM – 11:00AM – Transition: Snack & free art time/outdoor play\, hand-hygiene \n10:45AM – 12:00PM – Activity #2: Arts project and/or Camp Specialist (e.g. Sculpting or Paper-Making) \n12:00PM – 12:40PM – Lunch Time\, hand hygiene \n12:40PM – 2:15PM – Activity #3: Adventure (get outside!) and/or Camp Specialist (e.g. interpretive nature walk) \n 2:15PM – 2:45PM – Transition: Snack & free art time/outdoor play\, hand-hygiene \n2:45 – 3:30PM – Activity #4: Themed activity (e.g. Catapult Painting – Active Art) \n3:30PM – 4:00PM – Clean-up\, parents/guardians pick-up \nOur staff will do our best to accommodate all ages and abilities in our programs. Once we’re aware of the ages and skill levels of registrants\, we will adjust programming to meet the needs.  \nLOCATION: Port Clements Seniors Room\, Multiplex \nDATE(S):  \n\n\n\nJuly 31 – August 4\, 2023\n\n\n\nCOST: \n\n$120/child – 5-day week\nSubsidies – case-by-case basis. Limited spaces available. Please email info@hgrec.com\n\nTIME(S): \n\n9:00 AM Drop-off/Camp Start (camp staff arrive at 8:30AM)\n3:30 PM Pick-up/Camp End (camp staff leave at 4:30PM)\n\nLunch is NOT provided. Two snacks per day are provided. If your child/ren has any allergies or preferences\, please indicate them during registration. \nGEAR LIST:  \n\nIndoor/outdoor shoes\nRain jacket\nNut-free packed lunch\nPersonal water bottle\nBackpack\nAny medications (e.g.\, epi-pen) or preferred sunblocks\nSpare change of clothes & shoes\nTowel (for water sport play – we usually have a small kiddie pool on hot days/sprinkler system)\nOptional: additional snacks or beach-wear!\n\nWAITLIST: To be placed on a waitlist\, please e-mail registration details (name of child/ren\, age(s)\, community) to info@hgrec.com. \nCANCELLATION POLICY: Full refund with 7 days advance notice or if absent due to illness. Please keep your child/ren home if they or anyone else in the household exhibits any flu-like symptoms. \n\n\n\n\n\n\n\n\n\n\n\n\nHOW TO REGISTER YOUR CHILD\n\n\nIn addition to completing registration & payment online\, parents/guardians must read & sign the waiver forms and COVID-19 Assumption of Risk & Permission Form HERE: https://waiver.smartwaiver.com/v/hgrec/. \nWe will send parents/guardians a reminder to complete this waiver prior to camps if you have not done so by end of June. Your child/ren must have a form completed prior to entry on the first day of camp. Failure to provide this documentation will mean your child/ren will not be able to attend our camps\, so please contact us if you have any issues completing the form. If you have trouble registering online or wish to pay by cheque or e-transfer\, please e-mail info@hgrec.com. \n\n\n\n\n\n\n\n
URL:https://archive.hgrec.com/event/summer-day-camp-2023-waan-kun-port-clements/2023-07-31/
LOCATION:Port Clements\, Multiplex\, Senior’s Room\, 36 Cedar Avenue West\, Port Clements\, BC\, V0T 1R0\, Canada
GEO:53.6855814;-132.1829754
X-APPLE-STRUCTURED-LOCATION;VALUE=URI;X-ADDRESS=Port Clements Multiplex Senior’s Room 36 Cedar Avenue West Port Clements BC V0T 1R0 Canada;X-APPLE-RADIUS=500;X-TITLE=36 Cedar Avenue West:geo:-132.1829754,53.6855814
CATEGORIES:After-School Programs,After-School Programs (Port Clements/Tlell),Camp,Port Clements,Programs,Programs (Port Clements/Tlell),Supported Programs
ATTACH;FMTTYPE=image/jpeg:https://archive.hgrec.com/wp-content/uploads/2023/05/300950912_1773466819655897_2526516442550887725_n.jpeg
ORGANIZER;CN="Haida%20Gwaii%20Recreation":MAILTO:info@hgrec.com
END:VEVENT
END:VCALENDAR